BEGIN:VCALENDAR
VERSION:2.0
PRODID:cjcc.georgia.gov
X-WR-TIMEZONE:America/New_York
BEGIN:VTIMEZONE
TZID:America/New_York
X-LIC-LOCATION:America/New_York
END:VTIMEZONE
BEGIN:VEVENT
UID:60ada212458f6
DTSTART;TZID=UTC:20190413T154500
SEQUENCE:0
TRANSP:OPAQUE
DTEND;TZID=UTC:20190413T170000
URL:https://cjcc.georgia.gov/events/2019-04-13/mothers-against-drunk-drivin
 g-celebration-tribute
LOCATION:Ike Owings Community Center 8330 Gurley Road DOUGLASVILLE\, GA 313
 00
SUMMARY:Mothers Against Drunk Driving Celebration Tribute
CLASS:PUBLIC
DESCRIPTION:Mothers Againt Drunk Driving presents a Celebration Tribute. Jo
 in them on April 13th from 11:45 AM until 1:00 PM at the Ike Owings Commun
 ity Center. RSVP is required for this event. For more information and to R
 SVP please contact Ms. Veronica Jenkins at 770.615.3737 or at veronica.jen
 kins@madd.org.
DTSTAMP:20210525T211914Z
END:VEVENT
END:VCALENDAR