BEGIN:VCALENDAR
VERSION:2.0
PRODID:cjcc.georgia.gov
X-WR-TIMEZONE:America/New_York
BEGIN:VTIMEZONE
TZID:America/New_York
X-LIC-LOCATION:America/New_York
END:VTIMEZONE
BEGIN:VEVENT
UID:60ada20c5ad39
DTSTART;TZID=UTC:20190414T210000
SEQUENCE:0
TRANSP:OPAQUE
DTEND;TZID=UTC:20190415T000000
URL:https://cjcc.georgia.gov/events/2019-04-14/taste-glynn
LOCATION:King and Prince Beach and Golf Resort 201 Arnold Road SAINT SIMONS
  ISLAND\, GA 31522
SUMMARY:A Taste of Glynn
CLASS:PUBLIC
DESCRIPTION:The Glynn Community Crisis Center invites you to \"A Taste of G
 lynn.\"\n\nOn April 14\, 2019\, we invite our 1\,000+ loyal patrons and fi
 rst-time guests to join us in celebrating the area’s highly anticipated 
 fundraising & culinary event\, A Taste of Glynn. For 19 delicious years\, 
 A Taste of Glynn has brought together our most talented chefs and caterers
  to showcase their talents at the historic King and Prince Beach and Golf 
 Resort. Add to the evening’s enjoyment with a much-anticipated Silent Au
 ction offering a coveted assortment of finds from vacations to jewelry\, o
 riginal works of art to gourmet delicacies. A Taste of Glynn is more than 
 a treasured local tradition.\n\nWhile the food is sublime and the oceanfro
 nt setting is legendary\, perhaps the most unforgettable offering of the e
 vening is hope. The event is the primary fundraiser for the Glynn Communit
 y Crisis Center\, which serves victims of domestic violence. While you enj
 oy the finest food in the region in the company of family and friends\, yo
 u also help provide vital programs and shelter for those who are building 
 a new life free from abuse and fear. RSVP is required for this event. Plea
 se contact Ms. Dottie Bromley at gccced@gmail.com or at 912.264.1348 ext. 
 100 to RSVP.
DTSTAMP:20210525T211908Z
END:VEVENT
END:VCALENDAR