BEGIN:VCALENDAR
VERSION:2.0
PRODID:cjcc.georgia.gov
X-WR-TIMEZONE:America/New_York
BEGIN:VTIMEZONE
TZID:America/New_York
X-LIC-LOCATION:America/New_York
END:VTIMEZONE
BEGIN:VEVENT
UID:60ada21794df2
DTSTART;TZID=UTC:20190412T180000
SEQUENCE:0
TRANSP:OPAQUE
DTEND;TZID=UTC:20190412T180000
URL:https://cjcc.georgia.gov/events/2019-04-12/ncvrw-event-law-enforcement-
 recognition-ceremony
LOCATION:Monroe County Courthouse Square 8 W. Johnston St. FORSYTH\, GA 310
 29
SUMMARY:NCVRW Event: Law Enforcement Recognition Ceremony
CLASS:PUBLIC
DESCRIPTION:Towaliga Judicial Circuit Office of the District Attorney prese
 nts a Law Enforcement Recognition Ceremony. The ceremony will be on Friday
 \, April 12\, 2019 at 2:00 p.m. at the Monroe County Courthouse Square: 8 
 W. Johnston St.\, Forsyth\, GA 31029. On the west side facing Jackson St. 
 Forsyth\, GA 31029. The ceremony will be held in the courtroom on the 2nd 
 floor if inclement weather. For more information or questions\, please con
 tact Ms. Lorraine Bunn at lbunn@pacga.org or at 770.504.2407 ext. 214.\n\n
 **Please note we will rotate future event locations throughout our circuit
  from year to year.  We value all of you and hope you can join us!
DTSTAMP:20210525T211919Z
END:VEVENT
END:VCALENDAR