BEGIN:VCALENDAR
VERSION:2.0
PRODID:cjcc.georgia.gov
X-WR-TIMEZONE:America/New_York
BEGIN:VTIMEZONE
TZID:America/New_York
X-LIC-LOCATION:America/New_York
END:VTIMEZONE
BEGIN:VEVENT
UID:60ada21d3e145
DTSTART;TZID=UTC:20190411T223000
SEQUENCE:0
TRANSP:OPAQUE
DTEND;TZID=UTC:20190412T000000
URL:https://cjcc.georgia.gov/events/2019-04-11/ncvrw-event-1st-annual-commu
 nity-awareness-event-memorial-service
LOCATION:The Branch at Rock Springs Church 219 Rock Springs Rd. MILNER\, GA
  30257
SUMMARY:NCVRW Event: 1st Annual Community Awareness Event & Memorial Servic
 e
CLASS:PUBLIC
DESCRIPTION:Towaliga Judicial Circuit Office of the District Attorney prese
 nts their 1st Annual Community Awareness Event & Memorial Service. The eve
 nt will be on Thursday\, April 11\, 2019 at The Branch at Rock Springs Chu
 rch - 219 Rock Springs Rd.\, Milner\, GA 30257. The Community Awareness Ev
 ent will begin at 6:30 p.m. and the Memorial Service will follow at 7:00 p
 .m. RSVP to Ms. Lorraine Bunn at lbunn@pacga.org or at 770.504.2407 ext. 2
 14. \n\n*If you’d like to bring agency materials\, contact Ms. Bunn to r
 eserve a spot.*\n\n**Please note we will rotate future event locations thr
 oughout our circuit from year to year.  We value all of you and hope you c
 an join us!
DTSTAMP:20210525T211925Z
END:VEVENT
END:VCALENDAR