BEGIN:VCALENDAR
VERSION:2.0
PRODID:cjcc.georgia.gov
X-WR-TIMEZONE:America/New_York
BEGIN:VTIMEZONE
TZID:America/New_York
X-LIC-LOCATION:America/New_York
END:VTIMEZONE
BEGIN:VEVENT
UID:60ada1ef6ee0b
DTSTART;TZID=UTC:20190429T130000
SEQUENCE:0
TRANSP:OPAQUE
DTEND;TZID=UTC:20190502T210000
URL:https://cjcc.georgia.gov/events/2019-04-29/sexual-assault-victim-advoca
 cy-training-lagrange
LOCATION:LaGrange Memorial Library 115 Alford Street LAGRANGE\, GA 30240
SUMMARY:Sexual Assault Victim Advocacy Training\, LaGrange 
CLASS:PUBLIC
DESCRIPTION:Georgia Network to End Sexual Assault (GNESA) presents a Sexual
  Assault Victim Advocacy Training in LaGrange\, GA. The training will be A
 pril 29\, 2019 - May 2\, 2019 from 9:00 am until 5:00 pm each day. RSVP is
  required for this training. For more information view the attached file b
 elow. If you have any additional questions\, please contact Mrs. Krista El
 lington at 404.815.5261 or at kellington@gnesa.org.
DTSTAMP:20210525T211839Z
END:VEVENT
END:VCALENDAR