BEGIN:VCALENDAR
VERSION:2.0
PRODID:cjcc.georgia.gov
X-WR-TIMEZONE:America/New_York
BEGIN:VTIMEZONE
TZID:America/New_York
X-LIC-LOCATION:America/New_York
END:VTIMEZONE
BEGIN:VEVENT
UID:60ada203b87b9
DTSTART;TZID=UTC:20190422T123000
SEQUENCE:0
TRANSP:OPAQUE
DTEND;TZID=UTC:20190426T223000
URL:https://cjcc.georgia.gov/events/2019-04-22/pediatricadolescent-sanesafe
 -training-tifton
LOCATION:Tift Regional Medical Center 2225 Highway 41 North TIFTON\, 31794
SUMMARY:Pediatric/Adolescent SANE/SAFE Training\, Tifton 
CLASS:PUBLIC
DESCRIPTION:Georgia Network to End Sexual Assault (GNESA) presents a Pediat
 ric/Adolescent SANE/SAFE Training in Tifton\, GA. The training will be Apr
 il 22nd - April 26th from 8:30 am to 6:30 pm. RSVP is required for this tr
 aining. For more information see the attached document or contact Mrs. Kri
 sta Ellington at (404) 815-5261 or at kellington@gnesa.org.
DTSTAMP:20210525T211859Z
END:VEVENT
END:VCALENDAR