BEGIN:VCALENDAR
VERSION:2.0
PRODID:cjcc.georgia.gov
X-WR-TIMEZONE:America/New_York
BEGIN:VTIMEZONE
TZID:America/New_York
X-LIC-LOCATION:America/New_York
END:VTIMEZONE
BEGIN:VEVENT
UID:60ada1f9b3561
DTSTART;TZID=UTC:20190427T220000
SEQUENCE:0
TRANSP:OPAQUE
DTEND;TZID=UTC:20190428T020000
URL:https://cjcc.georgia.gov/events/2019-04-27/hearing-childrens-voices-saf
 epaths-18th-annual-gala
LOCATION:The Renaissance Waverly Hotel 2450 Galleria Parkway ATLANTA\, GA 3
 0339
SUMMARY:Hearing Children's Voices\, SafePath's 18th Annual Gala 
CLASS:PUBLIC
DESCRIPTION:SafePath Children's Advocacy Center presents Hearing Children's
  Voices\, SafePath's 18th Annual Gala. The gala will be at the Renaissance
  Waverly Hotel on April 27\, 2019 at 6:00 PM to 10:00 PM. RSVP is required
  for this event. For more information\, please contact Ms. Denise Hession 
 at (770) 801-3465 or at denisehession.safepath@cobbcounty.org.
DTSTAMP:20210525T211849Z
END:VEVENT
END:VCALENDAR