BEGIN:VCALENDAR
PRODID:cjcc.georgia.gov
VERSION:2.0
CALSCALE:GREGORIAN
BEGIN:VEVENT
UID:5b0322efca9cca7a30ca812d1b3905f1
DTSTAMP:20260424T225812Z
SUMMARY:Domestic Violence Awareness Month Event: Domestic Violence Fair
DESCRIPTION:The Atlanta Victim Assistance is hosting a Domestic Violence Fa
 ir on Thursday\, October 4th. Their goal is to bring together a group of o
 rganizations to share resources and information focused on domestic violen
 ce services and prevention where individuals can stop in to connect with l
 ocal agencies\, take home valuable information\, and enjoy some food and g
 iveaways. For more information on this event\, please contact Teralyn Grif
 fin at mun-tbgriffin@atlantaga.gov.
URL:https://cjcc.georgia.gov/events/2018-10-04/domestic-violence-awareness-
 month-event-domestic-violence-fair
DTSTART;VALUE=DATE:20181004
DTEND;VALUE=DATE:20181005
X-LIC-LOCATION:America/New_York
X-WR-TIMEZONE:America/New_York
END:VEVENT
BEGIN:VTIMEZONE
TZID:America/New_York
END:VTIMEZONE
END:VCALENDAR
