BEGIN:VCALENDAR
PRODID:cjcc.georgia.gov
VERSION:2.0
CALSCALE:GREGORIAN
BEGIN:VEVENT
UID:39e53f9b60308db39489217b36378120
DTSTAMP:20260424T230341Z
SUMMARY:Domestic Violence Awareness Month Event: Purple Out Day
DESCRIPTION:Please help the Liberty House of Albany raise awareness of dome
 stic violence by wearing purple and taking a picture with the hashtag: #Un
 maskDomesticViolence.
URL:https://cjcc.georgia.gov/events/2018-10-01/domestic-violence-awareness-
 month-event-purple-out-day
DTSTART;VALUE=DATE:20181001
DTEND;VALUE=DATE:20181002
X-LIC-LOCATION:America/New_York
X-WR-TIMEZONE:America/New_York
END:VEVENT
BEGIN:VTIMEZONE
TZID:America/New_York
END:VTIMEZONE
END:VCALENDAR
