BEGIN:VCALENDAR
PRODID:cjcc.georgia.gov
VERSION:2.0
CALSCALE:GREGORIAN
BEGIN:VEVENT
UID:bd2dea73e5729161b2d541efd3b1cfe2
DTSTAMP:20260424T230341Z
SUMMARY:Domestic Violence Awareness Month Event: 18th Annual Kick-Off Rally
DESCRIPTION:Please join the Halcyon Home for Battered Women\, Inc. for thei
 r Domestic Violence Awareness Month 18th Annual Kick-Off Rally Luncheon. F
 or more information on this event\, please contact Deobrah Murray at halcy
 on2@rose.net.
URL:https://cjcc.georgia.gov/events/2018-10-04/domestic-violence-awareness-
 month-event-18th-annual-kick-rally
DTSTART;VALUE=DATE:20181004
DTEND;VALUE=DATE:20181005
LOCATION:St. Thomas Episcopal Church 216 Remington Ave.  Thomasville\, GA 3
 1792 US
X-LIC-LOCATION:America/New_York
X-WR-TIMEZONE:America/New_York
END:VEVENT
BEGIN:VTIMEZONE
TZID:America/New_York
END:VTIMEZONE
END:VCALENDAR
