BEGIN:VCALENDAR
PRODID:cjcc.georgia.gov
VERSION:2.0
CALSCALE:GREGORIAN
BEGIN:VEVENT
UID:2b0266b07034c662f3f368d4b9edbbb9
DTSTAMP:20260424T225907Z
SUMMARY:Domestic Violence Awareness Month Event: Butterfly Release & Vigil
DESCRIPTION:In honor of Domestic Violence Awareness month\, the Liberty Hou
 se of Albany is hosting a Butterfly Release and Vigil to remember the vict
 ims who lost their lives to domestic violence in the last year. For more i
 nformation on this event\, please contact Diane Rogers at drogers@libertyh
 ouseofalbany.com.
URL:https://cjcc.georgia.gov/events/2018-10-01/domestic-violence-awareness-
 month-event-butterfly-release-vigil
DTSTART;VALUE=DATE:20181001
DTEND;VALUE=DATE:20181002
LOCATION:Ray Charles Plaza River Front Trail  Albany\, GA 31701 US
X-LIC-LOCATION:America/New_York
X-WR-TIMEZONE:America/New_York
END:VEVENT
BEGIN:VTIMEZONE
TZID:America/New_York
END:VTIMEZONE
END:VCALENDAR
