BEGIN:VCALENDAR
VERSION:2.0
PRODID:cjcc.georgia.gov
X-WR-TIMEZONE:America/New_York
BEGIN:VTIMEZONE
TZID:America/New_York
X-LIC-LOCATION:America/New_York
END:VTIMEZONE
BEGIN:VEVENT
UID:60b024645dfa6
DTSTART;TZID=UTC:20180428T143000
SEQUENCE:0
TRANSP:OPAQUE
DTEND;TZID=UTC:20180428T143000
URL:https://cjcc.georgia.gov/events/2018-04-28/super-hero-kid-fun-run
LOCATION:Deerfield-Windsor School Upper Campus 2500 Nottingham Way ALBANY\,
  GA 31707
SUMMARY:Super Hero Kid Fun Run
CLASS:PUBLIC
DESCRIPTION:Lily Pad Inc. is hosting a Super Hero Kid Fun Run for Sexual As
 sault Awareness Month. For more information\, please contact Mary at (229)
  435-0074 or (229) 449-0911.
DTSTAMP:20210527T185948Z
END:VEVENT
END:VCALENDAR