BEGIN:VCALENDAR
PRODID:cjcc.georgia.gov
VERSION:2.0
CALSCALE:GREGORIAN
BEGIN:VEVENT
UID:24d532bd6f2fb08385977c7ac0aa5b3b
DTSTAMP:20260424T232052Z
SUMMARY:Human Trafficking Training for Law Enforcement\, Prosecutors\, and 
 Judges
DESCRIPTION:The Georgia Statewide Human Trafficking Task Force will be host
 ing a human trafficking training for law enforcement\, prosecutors\, and j
 udges at GPSTC on August 3 from 8:00 am – 4:00 pm.  The goal of the trai
 ning is to equip law enforcement and judicial professionals with the knowl
 edge needed to investigate and prosecute human trafficking cases in Georgi
 a. \n\nPlease see the attached document for more information and click her
 e to register.
URL:https://cjcc.georgia.gov/events/2017-08-03/human-trafficking-training-l
 aw-enforcement-prosecutors-and-judges
DTSTART;VALUE=DATE:20170803
DTEND;VALUE=DATE:20170804
LOCATION:Georgia Public Safety Training Center - Room\, Bay A 1000 Indian S
 prings Drive  Forsyth\, GA 31029 US
X-LIC-LOCATION:America/New_York
X-WR-TIMEZONE:America/New_York
END:VEVENT
BEGIN:VTIMEZONE
TZID:America/New_York
END:VTIMEZONE
END:VCALENDAR
