BEGIN:VCALENDAR
VERSION:2.0
PRODID:cjcc.georgia.gov
X-WR-TIMEZONE:America/New_York
BEGIN:VTIMEZONE
TZID:America/New_York
X-LIC-LOCATION:America/New_York
END:VTIMEZONE
BEGIN:VEVENT
UID:60a6440433691
DTSTART;TZID=UTC:20170426T133000
SEQUENCE:0
TRANSP:OPAQUE
DTEND;TZID=UTC:20170426T160000
URL:https://cjcc.georgia.gov/events/2017-04-26/city-atlantas-take-stand-cam
 paign-denim-day-event
SUMMARY:City of Atlanta’s Take A Stand Campaign - Denim Day event 
CLASS:PUBLIC
DESCRIPTION:The City of Atlanta will be hosting a Resource Fair and Denim D
 ay in the City Hall atrium from 9:30 AM - 12:00 PM to raise awareness for 
 Sexual Assault Awareness Month. \n\nFor more information please contact\, 
 Kristy Carter at Kristy.Carter@cjcc.ga.gov. \n\nYou may also visit this si
 te: http://atltakeastand.org/.
DTSTAMP:20210520T071204Z
END:VEVENT
END:VCALENDAR