BEGIN:VCALENDAR
VERSION:2.0
PRODID:cjcc.georgia.gov
X-WR-TIMEZONE:America/New_York
BEGIN:VTIMEZONE
TZID:America/New_York
X-LIC-LOCATION:America/New_York
END:VTIMEZONE
BEGIN:VEVENT
UID:60a9f5e33a041
DTSTART;TZID=UTC:20170429T140000
SEQUENCE:0
TRANSP:OPAQUE
DTEND;TZID=UTC:20170429T140000
URL:https://cjcc.georgia.gov/events/2017-04-29/casa-alapaha-judicial-circui
 t-4th-annual-child-abuse-awareness-walk
LOCATION:Lanier County Courthouse LAKELAND\, GA
SUMMARY:CASA of the Alapaha Judicial Circuit - 4th Annual Child Abuse Aware
 ness Walk
CLASS:PUBLIC
DESCRIPTION:CASA of the Alapaha Judicial Circuit will host their 4th Annual
  Walk for Child Abuse Awareness/Prevention on April 29th. Contact their of
 fice by April 10th for t-shirt orders. \n\nFor additional information plea
 se email Liz Flowers at Liz.Flowers@cjcc.ga.gov or Natalie Williams at Nat
 alie.Williams@cjcc.ga.gov.
DTSTAMP:20210523T022747Z
END:VEVENT
END:VCALENDAR