BEGIN:VCALENDAR
VERSION:2.0
PRODID:cjcc.georgia.gov
X-WR-TIMEZONE:America/New_York
BEGIN:VTIMEZONE
TZID:America/New_York
X-LIC-LOCATION:America/New_York
END:VTIMEZONE
BEGIN:VEVENT
UID:60a9f5c0e355e
DTSTART;TZID=UTC:20170429T140000
SEQUENCE:0
TRANSP:OPAQUE
DTEND;TZID=UTC:20170429T170000
URL:https://cjcc.georgia.gov/events/2017-04-29/lily-pad-sexual-assault-awar
 eness-month-walk-mile-her-shoes
LOCATION:Deerfield-Windsor School 2500 Nottingham Way ALBANY\, GA
SUMMARY:Lily Pad - Sexual Assault Awareness Month - Walk a Mile in Her Shoe
 s
CLASS:PUBLIC
DESCRIPTION:From Lily Pad: \n\nPlease join us on April 29th at the Deerfiel
 d Windsor Upper Campus Track for this year’s march. In addition to both 
 MEN and WOMEN marching there will be a kids Superhero Fun Run where kids w
 ill race with their favorite superheroes to see who is the fastest.As soon
  as you confirm please send us the Walker and/or Fun Run registration form
 s. Included in registration walkers will receive this year’s Walk A Mile
  t-shirt and \"swag bag\" full of goodies\, while our superheroes will rec
 eive their own cape! The walker Sponsorship tracker is for you to use to c
 ollect sponsorships for your walk. Please track them on this tracker and t
 urn in\, at the event\, with the money you collected. We challenge each wa
 lker to raise $500 this year! We know you can do it! Please know $500 is t
 he goal\, but not a requirement. We sincerely appreciate any amount. The r
 egistration fee for all children is $10.00. Children do not need to comple
 te the sponsorship tracker for Superhero Fun Run.For additional informatio
 n please email Liz Flowers at Liz.Flowers@cjcc.ga.gov or Natalie Williams 
 at Natalie.Williams@cjcc.ga.gov.
DTSTAMP:20210523T022712Z
END:VEVENT
END:VCALENDAR