BEGIN:VCALENDAR
PRODID:cjcc.georgia.gov
VERSION:2.0
CALSCALE:GREGORIAN
BEGIN:VEVENT
UID:3a8c7f710d39269835d990012cfdd64e
DTSTAMP:20260425T005152Z
SUMMARY:Walk for Survivors
DESCRIPTION:
URL:https://cjcc.georgia.gov/events/2021-04-30/walk-survivors-0
DTSTART;VALUE=DATE:20210430
X-LIC-LOCATION:America/New_York
X-WR-TIMEZONE:America/New_York
END:VEVENT
BEGIN:VTIMEZONE
TZID:America/New_York
END:VTIMEZONE
END:VCALENDAR
