BEGIN:VCALENDAR
VERSION:2.0
PRODID:cjcc.georgia.gov
X-WR-TIMEZONE:America/New_York
BEGIN:VTIMEZONE
TZID:America/New_York
X-LIC-LOCATION:America/New_York
END:VTIMEZONE
BEGIN:VEVENT
UID:609037052d0d7
DTSTART;TZID=UTC:20210422T160000
SEQUENCE:0
TRANSP:OPAQUE
DTEND;TZID=UTC:20210422T170000
URL:https://cjcc.georgia.gov/events/2021-04-22/munching-madd-virtual-victim
 -services-informational-session
SUMMARY:Munching with MADD -  Virtual Victim Services Informational Session
CLASS:PUBLIC
DESCRIPTION:Please see the flyer below for additional information. 
DTSTAMP:20210503T134645Z
END:VEVENT
END:VCALENDAR