BEGIN:VCALENDAR
VERSION:2.0
PRODID:cjcc.georgia.gov
X-WR-TIMEZONE:America/New_York
BEGIN:VTIMEZONE
TZID:America/New_York
X-LIC-LOCATION:America/New_York
END:VTIMEZONE
BEGIN:VEVENT
UID:6090371064dfe
DTSTART;TZID=UTC:20210430T160000
SEQUENCE:0
TRANSP:OPAQUE
DTEND;TZID=UTC:20210430T170000
URL:https://cjcc.georgia.gov/events/2021-04-30/walk-survivors
SUMMARY:Walk for Survivors
CLASS:PUBLIC
DESCRIPTION:Meet at the address below:\n\n\n\nRome City Auditorium\n601 Bro
 ad St\nRome\, GA 30161
DTSTAMP:20210503T134656Z
END:VEVENT
END:VCALENDAR