BEGIN:VCALENDAR
PRODID:cjcc.georgia.gov
VERSION:2.0
CALSCALE:GREGORIAN
BEGIN:VEVENT
UID:484f98128d5a58b7378dd48e42e60beb
DTSTAMP:20260425T000957Z
SUMMARY:Victim Assistance Committee Meeting 
DESCRIPTION:The meeting will be held virtually. For questions\, please cont
 act Kristy Carter.
URL:https://cjcc.georgia.gov/events/2021-03-09/victim-assistance-committee-
 meeting
DTSTART;VALUE=DATE:20210309
DTEND;VALUE=DATE:20210310
X-LIC-LOCATION:America/New_York
X-WR-TIMEZONE:America/New_York
END:VEVENT
BEGIN:VTIMEZONE
TZID:America/New_York
END:VTIMEZONE
END:VCALENDAR
