BEGIN:VCALENDAR
PRODID:cjcc.georgia.gov
VERSION:2.0
CALSCALE:GREGORIAN
BEGIN:VEVENT
UID:0d92c0f51bf46661648424384ee6fcbf
DTSTAMP:20260425T005152Z
SUMMARY:Victims Compensation 101 Training
DESCRIPTION:You must register to attend\, click here to register. Please b
 e prepared to log in 30 mins early for virtual training.
URL:https://cjcc.georgia.gov/events/2021-08-06/victims-compensation-101-tra
 ining
DTSTART;VALUE=DATE:20210806
DTEND;VALUE=DATE:20210807
X-LIC-LOCATION:America/New_York
X-WR-TIMEZONE:America/New_York
END:VEVENT
BEGIN:VTIMEZONE
TZID:America/New_York
END:VTIMEZONE
END:VCALENDAR
