BEGIN:VCALENDAR
VERSION:2.0
PRODID:cjcc.georgia.gov
X-WR-TIMEZONE:America/New_York
BEGIN:VTIMEZONE
TZID:America/New_York
X-LIC-LOCATION:America/New_York
END:VTIMEZONE
BEGIN:VEVENT
UID:60903714526e1
DTSTART;TZID=UTC:20210430T170000
SEQUENCE:0
TRANSP:OPAQUE
DTEND;TZID=UTC:20210430T200000
URL:https://cjcc.georgia.gov/events/2021-04-30/victims-compensation-101-tra
 ining
SUMMARY:Victims Compensation 101 Training
CLASS:PUBLIC
DESCRIPTION:You must register to attend\, click here to register.
DTSTAMP:20210503T134700Z
END:VEVENT
END:VCALENDAR