BEGIN:VCALENDAR
PRODID:cjcc.georgia.gov
VERSION:2.0
CALSCALE:GREGORIAN
BEGIN:VEVENT
UID:e371094ebb78a01f28013241ee1ed984
DTSTAMP:20260425T000958Z
SUMMARY:Victims Compensation 101 Training
DESCRIPTION:You must register to attend\, click here to register. 
URL:https://cjcc.georgia.gov/events/2021-03-05/victims-compensation-101-tra
 ining
DTSTART;VALUE=DATE:20210305
DTEND;VALUE=DATE:20210306
X-LIC-LOCATION:America/New_York
X-WR-TIMEZONE:America/New_York
END:VEVENT
BEGIN:VTIMEZONE
TZID:America/New_York
END:VTIMEZONE
END:VCALENDAR
