BEGIN:VCALENDAR
VERSION:2.0
PRODID:cjcc.georgia.gov
X-WR-TIMEZONE:America/New_York
BEGIN:VTIMEZONE
TZID:America/New_York
X-LIC-LOCATION:America/New_York
END:VTIMEZONE
BEGIN:VEVENT
UID:608ff16a40581
DTSTART;VALUE=DATE:20210909
SEQUENCE:0
TRANSP:OPAQUE
URL:https://cjcc.georgia.gov/events/2021-09-09/vcd-appeals-hearing
SUMMARY:VCD Appeals Hearing
CLASS:PUBLIC
DESCRIPTION: \n\n\n\nMore details to come closer to the date. If you have 
 any questions\, please contact Carolyn McCombs at carolyn.mccombs@cjcc.g
 a.gov.
X-MICROSOFT-CDO-ALLDAYEVENT:TRUE
DTSTAMP:20210503T084946Z
END:VEVENT
END:VCALENDAR