BEGIN:VCALENDAR
PRODID:cjcc.georgia.gov
VERSION:2.0
CALSCALE:GREGORIAN
BEGIN:VEVENT
UID:02ec38f0cb6aafc2ea04f270a073c2b0
DTSTAMP:20260425T000957Z
SUMMARY:VCD Appeals Hearing
DESCRIPTION:More details to come closer to the date. If you have any questi
 ons\, please contact Carolyn McCombs at carolyn.mccombs@cjcc.ga.gov.
URL:https://cjcc.georgia.gov/events/2021-03-11/vcd-appeals-hearing
DTSTART;VALUE=DATE:20210311
X-LIC-LOCATION:America/New_York
X-WR-TIMEZONE:America/New_York
END:VEVENT
BEGIN:VTIMEZONE
TZID:America/New_York
END:VTIMEZONE
END:VCALENDAR
