BEGIN:VCALENDAR
VERSION:2.0
PRODID:cjcc.georgia.gov
X-WR-TIMEZONE:America/New_York
BEGIN:VTIMEZONE
TZID:America/New_York
X-LIC-LOCATION:America/New_York
END:VTIMEZONE
BEGIN:VEVENT
UID:608ff171d3b5e
DTSTART;TZID=UTC:20211129T153000
SEQUENCE:0
TRANSP:OPAQUE
DTEND;TZID=UTC:20211129T163000
URL:https://cjcc.georgia.gov/events/2021-11-29/criminal-justice-grants-comm
 ittee-meeting
SUMMARY:Criminal Justice Grants Committee Meeting
CLASS:PUBLIC
DESCRIPTION:As of now\, all upcoming meetings will be held virtually. Meet
 ing details and materials will be available closer to the date. For any ad
 ditional questions\, please contact Rachel Kilgore. 
DTSTAMP:20210503T084953Z
END:VEVENT
END:VCALENDAR