BEGIN:VCALENDAR
VERSION:2.0
PRODID:cjcc.georgia.gov
X-WR-TIMEZONE:America/New_York
BEGIN:VTIMEZONE
TZID:America/New_York
X-LIC-LOCATION:America/New_York
END:VTIMEZONE
BEGIN:VEVENT
UID:608ff174b4374
DTSTART;TZID=UTC:20211206T153000
SEQUENCE:0
TRANSP:OPAQUE
DTEND;TZID=UTC:20211206T170000
URL:https://cjcc.georgia.gov/events/2021-12-06/criminal-justice-coordinatin
 g-council-full-council-meeting
SUMMARY:Criminal Justice Coordinating Council Full Council Meeting 
CLASS:PUBLIC
DESCRIPTION:This meeting will be held virtually. Meeting details and materi
 als will be released closer to the date.
DTSTAMP:20210503T084956Z
END:VEVENT
END:VCALENDAR