BEGIN:VCALENDAR
VERSION:2.0
PRODID:cjcc.georgia.gov
X-WR-TIMEZONE:America/New_York
BEGIN:VTIMEZONE
TZID:America/New_York
X-LIC-LOCATION:America/New_York
END:VTIMEZONE
BEGIN:VEVENT
UID:60a00881f008c
DTSTART;TZID=UTC:20201007T160000
SEQUENCE:0
TRANSP:OPAQUE
DTEND;TZID=UTC:20201007T170000
URL:https://cjcc.georgia.gov/events/2020-10-07/walk-mile-her-shoes
LOCATION:650 College Dr. At the Bell Tower DALTON\, GA 30720
SUMMARY:Walk A Mile in Her Shoes
CLASS:PUBLIC
DESCRIPTION:Mask are required to participate. Please see the flyer below fo
 r more info.\n\n\n\n 
DTSTAMP:20210515T134433Z
END:VEVENT
END:VCALENDAR