BEGIN:VCALENDAR
VERSION:2.0
PRODID:cjcc.georgia.gov
X-WR-TIMEZONE:America/New_York
BEGIN:VTIMEZONE
TZID:America/New_York
X-LIC-LOCATION:America/New_York
END:VTIMEZONE
BEGIN:VEVENT
UID:60a008be868b0
DTSTART;TZID=UTC:20201005T170000
SEQUENCE:0
TRANSP:OPAQUE
DTEND;TZID=UTC:20201005T210000
URL:https://cjcc.georgia.gov/events/2020-10-05/stop-violence-against-women-
 vawa-formula-grant-program-implementation-plan-review
SUMMARY:S.T.O.P Violence Against Women (VAWA) Formula Grant Program Impleme
 ntation Plan Review Meeting 
CLASS:PUBLIC
DESCRIPTION:Staff and S.T.O.P VAWA Implementation Planning Committee Member
 s will provide an overview of the current achievements for the FFY2017-FFY
 2020 VAWA Implementation Plan and discuss the Competitive Request for Appl
 ications for the OVW FY2020 S.T.O.P VAWA grant program and the Sexual Ass
 ault Services Program (SASP) grant program.\n\n\n\nA representative from t
 he Stalking Prevention\, Awareness & Resource Center (SPARC) will conduct 
 a training. Participants will have an opportunity to learn from this subj
 ect matter expert on how to better support and serve victims of stalking.
DTSTAMP:20210515T134534Z
END:VEVENT
END:VCALENDAR