BEGIN:VCALENDAR
PRODID:cjcc.georgia.gov
VERSION:2.0
CALSCALE:GREGORIAN
BEGIN:VEVENT
UID:bd07c444d0376ca31f3e013477a80e95
DTSTAMP:20260424T233146Z
SUMMARY:Sexual Assault Victim Advocacy Training
DESCRIPTION:Please see the file below for more information. 
URL:https://cjcc.georgia.gov/events/2020-09-11/sexual-assault-victim-advoca
 cy-training
DTSTART;VALUE=DATE:20200911
DTEND;VALUE=DATE:20200913
X-LIC-LOCATION:America/New_York
X-WR-TIMEZONE:America/New_York
END:VEVENT
BEGIN:VTIMEZONE
TZID:America/New_York
END:VTIMEZONE
END:VCALENDAR
