BEGIN:VCALENDAR
VERSION:2.0
PRODID:cjcc.georgia.gov
X-WR-TIMEZONE:America/New_York
BEGIN:VTIMEZONE
TZID:America/New_York
X-LIC-LOCATION:America/New_York
END:VTIMEZONE
BEGIN:VEVENT
UID:60a643fb775ee
DTSTART;TZID=UTC:20170426T190000
SEQUENCE:0
TRANSP:OPAQUE
DTEND;TZID=UTC:20170426T203000
URL:https://cjcc.georgia.gov/events/2017-04-26/augusta-rape-crisis-center-s
 exual-assault-trauma-informed-investigations
LOCATION:Allgood Hall - E152 Augusta University AUGUSTA\, GA
SUMMARY:Augusta Rape Crisis Center - Sexual Assault: Trauma Informed Invest
 igations
CLASS:PUBLIC
DESCRIPTION:For additional information please see the attached flyer or ema
 il Liz Flowers at Liz.Flowers@cjcc.ga.gov or Natalie Williams at Natalie.W
 illiams@cjcc.ga.gov.
DTSTAMP:20210520T071155Z
END:VEVENT
END:VCALENDAR