BEGIN:VCALENDAR
PRODID:cjcc.georgia.gov
VERSION:2.0
CALSCALE:GREGORIAN
BEGIN:VEVENT
UID:b9fa2ead9978b45027ac79c0bfc203d9
DTSTAMP:20260424T232052Z
SUMMARY:Pediatric/Adolescent SANE/SAFE Training\, LIVE Online Training 
DESCRIPTION:Registration is required for these trainings. For more informat
 ion and to register\, please view the flyer below.
URL:https://cjcc.georgia.gov/events/2020-07-13/pediatricadolescent-sanesafe
 -training-live-online-training
DTSTART;VALUE=DATE:20200713
DTEND;VALUE=DATE:20200722
X-LIC-LOCATION:America/New_York
X-WR-TIMEZONE:America/New_York
END:VEVENT
BEGIN:VTIMEZONE
TZID:America/New_York
END:VTIMEZONE
END:VCALENDAR
