BEGIN:VCALENDAR
PRODID:cjcc.georgia.gov
VERSION:2.0
CALSCALE:GREGORIAN
BEGIN:VEVENT
UID:6195d93f2aab236b38d3a9176061faa7
DTSTAMP:20260424T232052Z
SUMMARY:Sexual Assault Victim Advocacy Training\, LIVE Online Training 
DESCRIPTION:The training URL will be emailed to registrants a week prior to
  the training. See flyer below for more details.
URL:https://cjcc.georgia.gov/events/2020-07-11/sexual-assault-victim-advoca
 cy-training-live-online-training
DTSTART;VALUE=DATE:20200711
DTEND;VALUE=DATE:20200713
X-LIC-LOCATION:America/New_York
X-WR-TIMEZONE:America/New_York
END:VEVENT
BEGIN:VTIMEZONE
TZID:America/New_York
END:VTIMEZONE
END:VCALENDAR
