BEGIN:VCALENDAR
VERSION:2.0
PRODID:cjcc.georgia.gov
X-WR-TIMEZONE:America/New_York
BEGIN:VTIMEZONE
TZID:America/New_York
X-LIC-LOCATION:America/New_York
END:VTIMEZONE
BEGIN:VEVENT
UID:6162eb89c5106
DTSTART;TZID=UTC:20200511T123000
SEQUENCE:0
TRANSP:OPAQUE
DTEND;TZID=UTC:20200515T223000
URL:https://cjcc.georgia.gov/events/2020-05-11/adultadolescent-sexual-assau
 lt-nurse-examiner-sane-training-columbus
LOCATION:710 Center Street 3rd Floor Support Staff Conference Room COLUMBUS
  \, GA 31901
SUMMARY:Adult/Adolescent Sexual Assault Nurse Examiner (SANE) Training\, Co
 lumbus 
CLASS:PUBLIC
DESCRIPTION:PLEASE NOTE: SPACE IS LIMITED. PLEASE DO NOT WAIT TO REGISTER O
 R SUBMIT YOUR PAPERWORK. GNESA RESERVES THE RIGHT TO RESCHEDULE A PROGRAM 
 IN THE EVENT A MINIMUM NUMBER OF PARTICIPANTS HAVE NOT REGISTERED OR SUBMI
 TTED  ALL REQUIRED PAPERWORK.\n\n\n\nThe training will be a 40 Hour (5 -
  8 hour days)\, Adult/Adolescent curriculum. 42 CEs will be awarded after 
 completion of the didactic training course. Additional clinical training i
 s required to complete SANE training. For more information regarding conta
 ct hours\, please call Krista @404-815-5261.\n\n\n\nAttendance is required
  at all five days of the training for all attendees.
DTSTAMP:20211010T093257Z
END:VEVENT
END:VCALENDAR