BEGIN:VCALENDAR
PRODID:cjcc.georgia.gov
VERSION:2.0
CALSCALE:GREGORIAN
BEGIN:VEVENT
UID:5e5ae6d46b72bfcdb8a4a9012f22442f
DTSTAMP:20260424T232051Z
SUMMARY:Victims Compensation 101 Training 
DESCRIPTION:Please join us for Victims Compensation 101 Training! This is a
  fun and interactive training on the Georgia Crime Victims Compensation Pr
 ogram\, to include an introduction to our Victims Comp Portal. You must re
 gister to attend.
URL:https://cjcc.georgia.gov/events/2020-01-17/victims-compensation-101-tra
 ining
DTSTART;VALUE=DATE:20200117
DTEND;VALUE=DATE:20200118
X-LIC-LOCATION:America/New_York
X-WR-TIMEZONE:America/New_York
END:VEVENT
BEGIN:VTIMEZONE
TZID:America/New_York
END:VTIMEZONE
END:VCALENDAR
