BEGIN:VCALENDAR
PRODID:cjcc.georgia.gov
VERSION:2.0
CALSCALE:GREGORIAN
BEGIN:VEVENT
UID:e8177f5663c001ba95d5ea6fb355bad1
DTSTAMP:20260424T232052Z
SUMMARY:Criminal Justice Grants Committee Meeting 
DESCRIPTION:The meeting will be held on the 3rd floor in Room 1.
URL:https://cjcc.georgia.gov/events/2020-03-10/criminal-justice-grants-comm
 ittee-meeting
DTSTART;VALUE=DATE:20200310
DTEND;VALUE=DATE:20200311
LOCATION:Georgia State Bar Building\, Meeting Room 1 104 Marietta Street\, 
 NW  Atlanta\, GA 30303-2743 US
X-LIC-LOCATION:America/New_York
X-WR-TIMEZONE:America/New_York
END:VEVENT
BEGIN:VTIMEZONE
TZID:America/New_York
END:VTIMEZONE
END:VCALENDAR
