BEGIN:VCALENDAR
VERSION:2.0
PRODID:cjcc.georgia.gov
X-WR-TIMEZONE:America/New_York
BEGIN:VTIMEZONE
TZID:America/New_York
X-LIC-LOCATION:America/New_York
END:VTIMEZONE
BEGIN:VEVENT
UID:60a644096274b
DTSTART;TZID=UTC:20170423T190000
SEQUENCE:0
TRANSP:OPAQUE
DTEND;TZID=UTC:20170423T210000
URL:https://cjcc.georgia.gov/events/2017-04-23/rape-crisis-center-coastal-e
 mpire-self-defense-class
LOCATION:First Presbyterian Church SAVANNAH\, GA
SUMMARY:Rape Crisis Center of the Coastal Empire - Self Defense Class
CLASS:PUBLIC
DESCRIPTION:The Rape Crisis Center of the Coastal Empire will host their fi
 rst self-defense class of the year at First Presbyterian Church on April 2
 3rd. \n\nFor additional information please email Liz Flowers at Liz.Flower
 s@cjcc.ga.gov or Natalie Williams at Natalie.Williams@cjcc.ga.gov.
DTSTAMP:20210520T071209Z
END:VEVENT
END:VCALENDAR