BEGIN:VCALENDAR
PRODID:cjcc.georgia.gov
VERSION:2.0
CALSCALE:GREGORIAN
BEGIN:VEVENT
UID:0310cba4381c0c952a037d9f0759e405
DTSTAMP:20260424T202750Z
SUMMARY:2019 Mastering the Art Gala
DESCRIPTION:For additional event details\, click the related file below.\n\
 n\n\nIf you have any questions\, please contact Ms. Robyn Windibank at 678
 .357.6040 or at rwindibank@gacares.org.
URL:https://cjcc.georgia.gov/events/2019-09-27/2019-mastering-art-gala
DTSTART;VALUE=DATE:20190927
DTEND;VALUE=DATE:20190929
LOCATION:265 Peachtree Center Ave. NE  Atlanta\, GA 30303 US
X-LIC-LOCATION:America/New_York
X-WR-TIMEZONE:America/New_York
END:VEVENT
BEGIN:VTIMEZONE
TZID:America/New_York
END:VTIMEZONE
END:VCALENDAR
