BEGIN:VCALENDAR
PRODID:cjcc.georgia.gov
VERSION:2.0
CALSCALE:GREGORIAN
BEGIN:VEVENT
UID:0749feae05fc1fb3022d348f54a4a3ab
DTSTAMP:20260424T232052Z
SUMMARY:A Taste of Glynn
DESCRIPTION:Please be sure to RSVP for this event. For questions please co
 ntact Sandy Scherzer at 912-264-1348 ext. 103 or at gcccoutreach@gmail.com
 .
URL:https://cjcc.georgia.gov/events/2020-01-19/taste-glynn
DTSTART;VALUE=DATE:20200119
DTEND;VALUE=DATE:20200121
LOCATION:201 Arnold Rd  St. Simons Island\, GA 31522 US
X-LIC-LOCATION:America/New_York
X-WR-TIMEZONE:America/New_York
END:VEVENT
BEGIN:VTIMEZONE
TZID:America/New_York
END:VTIMEZONE
END:VCALENDAR
