BEGIN:VCALENDAR
PRODID:cjcc.georgia.gov
VERSION:2.0
CALSCALE:GREGORIAN
BEGIN:VEVENT
UID:3e19f3f1421e57015c845e5aeaa2b880
DTSTAMP:20260424T202751Z
SUMMARY:Advanced Victims Compensation Training 
DESCRIPTION:For additional questions or concerns\, please contact Dannielle
  Lewis at 404.657.2075.
URL:https://cjcc.georgia.gov/events/2019-09-20/advanced-victims-compensatio
 n-training
DTSTART;VALUE=DATE:20190920
DTEND;VALUE=DATE:20190921
X-LIC-LOCATION:America/New_York
X-WR-TIMEZONE:America/New_York
END:VEVENT
BEGIN:VTIMEZONE
TZID:America/New_York
END:VTIMEZONE
END:VCALENDAR
