BEGIN:VCALENDAR
PRODID:cjcc.georgia.gov
VERSION:2.0
CALSCALE:GREGORIAN
BEGIN:VEVENT
UID:2a359d15ff2c4b747b70eb7f785a37dd
DTSTAMP:20260424T202751Z
SUMMARY:Victims Compensation 101 Training
DESCRIPTION:For additional questions or concerns\, please contact Dannielle
  Lewis at 404.657.2075.
URL:https://cjcc.georgia.gov/events/2019-10-03/victims-compensation-101-tra
 ining
DTSTART;VALUE=DATE:20191003
DTEND;VALUE=DATE:20191004
X-LIC-LOCATION:America/New_York
X-WR-TIMEZONE:America/New_York
END:VEVENT
BEGIN:VTIMEZONE
TZID:America/New_York
END:VTIMEZONE
END:VCALENDAR
