BEGIN:VCALENDAR
VERSION:2.0
PRODID:cjcc.georgia.gov
X-WR-TIMEZONE:America/New_York
BEGIN:VTIMEZONE
TZID:America/New_York
X-LIC-LOCATION:America/New_York
END:VTIMEZONE
BEGIN:VEVENT
UID:60a8c1f7ccb6e
DTSTART;TZID=UTC:20190920T130000
SEQUENCE:0
TRANSP:OPAQUE
DTEND;TZID=UTC:20190920T160000
URL:https://cjcc.georgia.gov/events/2019-09-20/victims-compensation-101-tra
 ining
SUMMARY:Victims Compensation 101 Training 
CLASS:PUBLIC
DESCRIPTION:For additional questions or concerns\, please contact Dannielle
  Lewis at 404.657.2075 or at dannielle.lewis@cjcc.ga.gov.
DTSTAMP:20210522T043359Z
END:VEVENT
END:VCALENDAR