BEGIN:VCALENDAR
PRODID:cjcc.georgia.gov
VERSION:2.0
CALSCALE:GREGORIAN
BEGIN:VEVENT
UID:dab0cb63283d2783d7b55458d855f747
DTSTAMP:20260424T202753Z
SUMMARY:Victims Compensation 101 Training
DESCRIPTION:For additional questions or concerns\, please contact Dannielle
  Lewis at 404.657.2075 or at dannielle.lewis@cjcc.ga.gov.
URL:https://cjcc.georgia.gov/events/2019-09-27/victims-compensation-101-tra
 ining
DTSTART;VALUE=DATE:20190927
DTEND;VALUE=DATE:20190928
X-LIC-LOCATION:America/New_York
X-WR-TIMEZONE:America/New_York
END:VEVENT
BEGIN:VTIMEZONE
TZID:America/New_York
END:VTIMEZONE
END:VCALENDAR
