BEGIN:VCALENDAR
VERSION:2.0
PRODID:cjcc.georgia.gov
X-WR-TIMEZONE:America/New_York
BEGIN:VTIMEZONE
TZID:America/New_York
X-LIC-LOCATION:America/New_York
END:VTIMEZONE
BEGIN:VEVENT
UID:60a7b8252996b
DTSTART;VALUE=DATE:20170405
SEQUENCE:0
TRANSP:OPAQUE
DTEND;VALUE=DATE:20170406
URL:https://cjcc.georgia.gov/events/2017-04-05/north-georgia-mountain-crisi
 s-network-proclamation-signing-fannin-county
SUMMARY:North Georgia Mountain Crisis Network - Proclamation Signing - Fann
 in County
CLASS:PUBLIC
DESCRIPTION:For additional information please email Liz Flowers at Liz.Flow
 ers@cjcc.ga.gov.
X-MICROSOFT-CDO-ALLDAYEVENT:TRUE
DTSTAMP:20210521T093949Z
END:VEVENT
END:VCALENDAR