BEGIN:VCALENDAR
VERSION:2.0
PRODID:cjcc.georgia.gov
X-WR-TIMEZONE:America/New_York
BEGIN:VTIMEZONE
TZID:America/New_York
X-LIC-LOCATION:America/New_York
END:VTIMEZONE
BEGIN:VEVENT
UID:60a7b82beb586
DTSTART;TZID=UTC:20170404T220000
SEQUENCE:0
TRANSP:OPAQUE
DTEND;TZID=UTC:20170404T220000
URL:https://cjcc.georgia.gov/events/2017-04-04/cordele-judicial-circuit-vic
 tim-witness-assistance-program-candlelight-vigil
LOCATION:Cordele Community Clubhouse 108 E. 15th Avenue CORDELE\, GA 31015
SUMMARY:Cordele Judicial Circuit Victim-Witness Assistance Program - Candle
 light Vigil
CLASS:PUBLIC
DESCRIPTION:The Cordele Judicial Circuit Victim-Witness Assistance Program 
 (VWAP) will host a Ribbon Campaign (April 2-8)\, Proclamation Ceremony (Ap
 ril 3)\, and Candlelight Vigil (April 4). The Cordele Judicial Circuit enc
 ourages members of the community to unite and join them in honoring victim
 s of crime and those who bring honor to victims on a daily basis. \n\nFor 
 more information please call Celanese Floyd\, VWAP Coordinator (229-426-51
 56)\, or Belinda Griffin\, VWAP Advocate (229-271-4735).
DTSTAMP:20210521T093955Z
END:VEVENT
END:VCALENDAR