BEGIN:VCALENDAR
VERSION:2.0
PRODID:cjcc.georgia.gov
X-WR-TIMEZONE:America/New_York
BEGIN:VTIMEZONE
TZID:America/New_York
X-LIC-LOCATION:America/New_York
END:VTIMEZONE
BEGIN:VEVENT
UID:60a64411c9f42
DTSTART;TZID=UTC:20170422T140000
SEQUENCE:0
TRANSP:OPAQUE
DTEND;TZID=UTC:20170422T160000
URL:https://cjcc.georgia.gov/events/2017-04-22/teal-walk-walk-end-sexual-as
 sualt
LOCATION:Fairington Park LITHONIA\, GA 30038
SUMMARY:The Teal Walk: Walk to End Sexual Assualt
CLASS:PUBLIC
DESCRIPTION:Register Here: https://www.eventbrite.com/e/the-teal-walk-walk-
 to-end-sexual-assualt-tickets-30975556724?aff=es2\n\nFor additional inform
 ation please email Liz Flowers at Liz.Flowers@cjcc.ga.gov or Natalie Willi
 ams at Natalie.Williams@cjcc.ga.gov.
DTSTAMP:20210520T071217Z
END:VEVENT
END:VCALENDAR