BEGIN:VCALENDAR
PRODID:cjcc.georgia.gov
VERSION:2.0
CALSCALE:GREGORIAN
BEGIN:VEVENT
UID:74bb080650daf5c0c4815678281ba235
DTSTAMP:20260424T202752Z
SUMMARY:Criminal Case Data Exchange Board Meeting
DESCRIPTION:This event will be held on the 7th floor in the GTA Boardroom.
URL:https://cjcc.georgia.gov/events/2019-09-25/criminal-case-data-exchange-
 board-meeting
DTSTART;VALUE=DATE:20190925
LOCATION:47 Trinity Avenue SW 7th Floor\, GTA Boardroom  Atlanta\, GA 30334
  US
X-LIC-LOCATION:America/New_York
X-WR-TIMEZONE:America/New_York
END:VEVENT
BEGIN:VTIMEZONE
TZID:America/New_York
END:VTIMEZONE
END:VCALENDAR
