BEGIN:VCALENDAR
PRODID:cjcc.georgia.gov
VERSION:2.0
CALSCALE:GREGORIAN
BEGIN:VEVENT
UID:aa5fea6a4b3edc08b40686f3ccb03eea
DTSTAMP:20260424T234504Z
SUMMARY:DFCS DV Protocol
DESCRIPTION:TopicDFCS DV ProtocolTrainer(s)Vicki de MartinezLocationCircle 
 of Hope ShelterCostFREEIntended AudienceStephens County DFCS social worker
 sAudience Capacity15Registration Info & Deadline\n\nContact:\n\nVicki de M
 artinezvdemartinez@gacircleofhope.org706-768-3027
URL:https://cjcc.georgia.gov/events/2017-01-31/dfcs-dv-protocol
DTSTART;VALUE=DATE:20170131
DTEND;VALUE=DATE:20170201
X-LIC-LOCATION:America/New_York
X-WR-TIMEZONE:America/New_York
END:VEVENT
BEGIN:VTIMEZONE
TZID:America/New_York
END:VTIMEZONE
END:VCALENDAR
