BEGIN:VCALENDAR
PRODID:cjcc.georgia.gov
VERSION:2.0
CALSCALE:GREGORIAN
BEGIN:VEVENT
UID:5706dce24ec752663c5db99812b9576f
DTSTAMP:20260424T234504Z
SUMMARY:The Intersection of Probation and Domestic Violence
DESCRIPTION:TopicThe Intersection of Probation and Domestic ViolenceTrainer
 (s)Vicki de MartinezCostFREEIntended AudienceProbation OfficersAudience Ca
 pacity15Registration Info & DeadlineRegister by email at:vdemartinez@gacir
 cleofhope.orgPoint of Contact & Contact Info:Vicki de Martinez\, Circle of
  Hope706-768-3027
URL:https://cjcc.georgia.gov/events/2017-02-02/intersection-probation-and-d
 omestic-violence
DTSTART;VALUE=DATE:20170202
DTEND;VALUE=DATE:20170203
LOCATION:State Probation Office Meeting Room 201 Monroe St.  Clarkesville\,
  GA 30523 US
X-LIC-LOCATION:America/New_York
X-WR-TIMEZONE:America/New_York
END:VEVENT
BEGIN:VTIMEZONE
TZID:America/New_York
END:VTIMEZONE
END:VCALENDAR
