BEGIN:VCALENDAR
PRODID:cjcc.georgia.gov
VERSION:2.0
CALSCALE:GREGORIAN
BEGIN:VEVENT
UID:025a6ca3e97f9234a47c1a20b751c83b
DTSTAMP:20260424T234505Z
SUMMARY:Investigating & Responding to Stalking (2)
DESCRIPTION:Free P.O.S.T. Training\n\nSponsored by:Cornelia Police Departme
 nt & Circle of Hope\n\nSee flyer below for more information:
URL:https://cjcc.georgia.gov/events/2017-01-25/investigating-responding-sta
 lking-2
DTSTART;VALUE=DATE:20170125
DTEND;VALUE=DATE:20170126
LOCATION:Cornelia Police Department Training Center 163 Larkin Street  Corn
 elia\, GA 30531 US
X-LIC-LOCATION:America/New_York
X-WR-TIMEZONE:America/New_York
END:VEVENT
BEGIN:VTIMEZONE
TZID:America/New_York
END:VTIMEZONE
END:VCALENDAR
